BEGIN:VCALENDAR
VERSION:2.0
PRODID:-//Mallorca Convention Bureau - ECPv6.14.1//NONSGML v1.0//EN
CALSCALE:GREGORIAN
METHOD:PUBLISH
X-ORIGINAL-URL:https://mallorcaconventionbureau.com/en
X-WR-CALDESC:Events for Mallorca Convention Bureau
REFRESH-INTERVAL;VALUE=DURATION:PT1H
X-Robots-Tag:noindex
X-PUBLISHED-TTL:PT1H
BEGIN:VTIMEZONE
TZID:Europe/Helsinki
BEGIN:DAYLIGHT
TZOFFSETFROM:+0200
TZOFFSETTO:+0300
TZNAME:EEST
DTSTART:20250330T010000
END:DAYLIGHT
BEGIN:STANDARD
TZOFFSETFROM:+0300
TZOFFSETTO:+0200
TZNAME:EET
DTSTART:20251026T010000
END:STANDARD
END:VTIMEZONE
BEGIN:VEVENT
DTSTART;VALUE=DATE:20251024
DTEND;VALUE=DATE:20251027
DTSTAMP:20260419T154438
CREATED:20250522T093335Z
LAST-MODIFIED:20251013T074243Z
UID:8521-1761264000-1761523199@mallorcaconventionbureau.com
SUMMARY:Spanish MICE Agencies FAM Trip
DESCRIPTION:Mallorca will have the pleasure of welcoming leading Spanish MICE agencies on a familiarization trip designed to connect directly with local suppliers and discover first-hand the island’s extensive offering as a MICE destination.Throughout the program\, participants will experience hotels\, venues\, unique spaces\, and exclusive activities that showcase Mallorca as an ideal destination for meetings\, incentives\, and corporate events.An initiative that fosters collaboration between the local sector and top national agencies\, strengthening the island’s role as a benchmark MICE destination in the Mediterranean.
URL:https://mallorcaconventionbureau.com/en/event/fam-trip-agencias-mice
END:VEVENT
END:VCALENDAR