BEGIN:VCALENDAR
VERSION:2.0
PRODID:-//Mallorca Convention Bureau - ECPv6.14.1//NONSGML v1.0//EN
CALSCALE:GREGORIAN
METHOD:PUBLISH
X-WR-CALNAME:Mallorca Convention Bureau
X-ORIGINAL-URL:https://mallorcaconventionbureau.com/en
X-WR-CALDESC:Events for Mallorca Convention Bureau
REFRESH-INTERVAL;VALUE=DURATION:PT1H
X-Robots-Tag:noindex
X-PUBLISHED-TTL:PT1H
BEGIN:VTIMEZONE
TZID:Europe/Helsinki
BEGIN:DAYLIGHT
TZOFFSETFROM:+0200
TZOFFSETTO:+0300
TZNAME:EEST
DTSTART:20250330T010000
END:DAYLIGHT
BEGIN:STANDARD
TZOFFSETFROM:+0300
TZOFFSETTO:+0200
TZNAME:EET
DTSTART:20251026T010000
END:STANDARD
END:VTIMEZONE
BEGIN:VEVENT
DTSTART;VALUE=DATE:20251024
DTEND;VALUE=DATE:20251027
DTSTAMP:20260421T145442
CREATED:20250522T093335Z
LAST-MODIFIED:20251013T074243Z
UID:8521-1761264000-1761523199@mallorcaconventionbureau.com
SUMMARY:Spanish MICE Agencies FAM Trip
DESCRIPTION:Mallorca will have the pleasure of welcoming leading Spanish MICE agencies on a familiarization trip designed to connect directly with local suppliers and discover first-hand the island’s extensive offering as a MICE destination.Throughout the program\, participants will experience hotels\, venues\, unique spaces\, and exclusive activities that showcase Mallorca as an ideal destination for meetings\, incentives\, and corporate events.An initiative that fosters collaboration between the local sector and top national agencies\, strengthening the island’s role as a benchmark MICE destination in the Mediterranean.
URL:https://mallorcaconventionbureau.com/en/event/fam-trip-agencias-mice
END:VEVENT
BEGIN:VEVENT
DTSTART;TZID=Europe/Helsinki:20251114T000000
DTEND;TZID=Europe/Helsinki:20251117T000000
DTSTAMP:20260421T145442
CREATED:20250522T093511Z
LAST-MODIFIED:20250522T093511Z
UID:8517-1763078400-1763337600@mallorcaconventionbureau.com
SUMMARY:Fam Trip IBTM
DESCRIPTION:Mostrar la oferta MICE de Mallorca a través de la propia experiencia y conectar a las agencias internacionales con los Asociados.
URL:https://mallorcaconventionbureau.com/en/event/fam-trip-ibtm
END:VEVENT
BEGIN:VEVENT
DTSTART;VALUE=DATE:20251118
DTEND;VALUE=DATE:20251121
DTSTAMP:20260421T145442
CREATED:20250519T114217Z
LAST-MODIFIED:20250519T114217Z
UID:8518-1763424000-1763683199@mallorcaconventionbureau.com
SUMMARY:IBTM
DESCRIPTION:Represent Mallorca as a MICE destination at one of the most important trade fairs in the sector\, connecting with international buyers and generating business opportunities for members.
URL:https://mallorcaconventionbureau.com/en/event/ibtm
END:VEVENT
BEGIN:VEVENT
DTSTART;VALUE=DATE:20251202
DTEND;VALUE=DATE:20251203
DTSTAMP:20260421T145442
CREATED:20251015T103346Z
LAST-MODIFIED:20251015T103346Z
UID:9249-1764633600-1764719999@mallorcaconventionbureau.com
SUMMARY:Conecta MICE: 2 of December
DESCRIPTION:The Mallorca Convention Bureau is organizing a new Conecta MICE session\, aimed at its members and local companies involved in the congress and association sector.The event will offer a space for networking and training focused on the particularities of congress and association tourism\, encouraging collaboration among professionals and the development of new business opportunities.An initiative that reinforces Mallorca’s position as an ideal destination for congresses and professional association events.
URL:https://mallorcaconventionbureau.com/en/event/conecta-mice-2-of-december
END:VEVENT
END:VCALENDAR