BEGIN:VCALENDAR
VERSION:2.0
PRODID:-//Mallorca Convention Bureau - ECPv6.14.1//NONSGML v1.0//EN
CALSCALE:GREGORIAN
METHOD:PUBLISH
X-WR-CALNAME:Mallorca Convention Bureau
X-ORIGINAL-URL:https://mallorcaconventionbureau.com
X-WR-CALDESC:Eventos para Mallorca Convention Bureau
REFRESH-INTERVAL;VALUE=DURATION:PT1H
X-Robots-Tag:noindex
X-PUBLISHED-TTL:PT1H
BEGIN:VTIMEZONE
TZID:Europe/Helsinki
BEGIN:DAYLIGHT
TZOFFSETFROM:+0200
TZOFFSETTO:+0300
TZNAME:EEST
DTSTART:20250330T010000
END:DAYLIGHT
BEGIN:STANDARD
TZOFFSETFROM:+0300
TZOFFSETTO:+0200
TZNAME:EET
DTSTART:20251026T010000
END:STANDARD
END:VTIMEZONE
BEGIN:VEVENT
DTSTART;VALUE=DATE:20251012
DTEND;VALUE=DATE:20251018
DTSTAMP:20260421T143842
CREATED:20250519T113640Z
LAST-MODIFIED:20251013T072335Z
UID:3755-1760234400-1760666399@mallorcaconventionbureau.com
SUMMARY:M&I Flagship Antalya
DESCRIPTION:Participa en M&I Flagship Antalya para conectar directamente con compradores de eventos corporativos\, incentivos y reuniones procedentes de Europa. Aprovecha un programa de reuniones pre-seleccionadas 1-a-1\, networking altamente cualificado y experiencias estratégicas que posicionan Mallorca como un destino MICE atractivo. Genera oportunidades comerciales reales para nuestros miembros y colabora con la comunidad profesional de eventos.
URL:https://mallorcaconventionbureau.com/event/mi-flagship
END:VEVENT
END:VCALENDAR