BEGIN:VCALENDAR
VERSION:2.0
PRODID:-//Mallorca Convention Bureau - ECPv6.14.1//NONSGML v1.0//EN
CALSCALE:GREGORIAN
METHOD:PUBLISH
X-ORIGINAL-URL:https://mallorcaconventionbureau.com
X-WR-CALDESC:Eventos para Mallorca Convention Bureau
REFRESH-INTERVAL;VALUE=DURATION:PT1H
X-Robots-Tag:noindex
X-PUBLISHED-TTL:PT1H
BEGIN:VTIMEZONE
TZID:Europe/Helsinki
BEGIN:DAYLIGHT
TZOFFSETFROM:+0200
TZOFFSETTO:+0300
TZNAME:EEST
DTSTART:20250330T010000
END:DAYLIGHT
BEGIN:STANDARD
TZOFFSETFROM:+0300
TZOFFSETTO:+0200
TZNAME:EET
DTSTART:20251026T010000
END:STANDARD
END:VTIMEZONE
BEGIN:VEVENT
DTSTART;VALUE=DATE:20251019
DTEND;VALUE=DATE:20251024
DTSTAMP:20260421T161307
CREATED:20250519T114126Z
LAST-MODIFIED:20250520T101806Z
UID:3757-1760832000-1761263999@mallorcaconventionbureau.com
SUMMARY:M&I Transatlantic Forum
DESCRIPTION:Establecer relaciones con buyers estadounidenses especializados en eventos corporativos\, incentivos y reuniones\, promocionando Mallorca como un destino MICE de primer nivel y generando oportunidades de negocio para los asociados. 
URL:https://mallorcaconventionbureau.com/event/mi-transatlantic-forum
END:VEVENT
BEGIN:VEVENT
DTSTART;VALUE=DATE:20251022
DTEND;VALUE=DATE:20251023
DTSTAMP:20260421T161308
CREATED:20260216T084917Z
LAST-MODIFIED:20260216T084917Z
UID:10347-1761091200-1761177599@mallorcaconventionbureau.com
SUMMARY:GMF Mediterranean Onboard Edition
DESCRIPTION:El Primer Forum a nivel mundial a bordo de un CRUCERO con citas one-to-one en cada puerto de escala entre Buyers europeos y norteamericanos y Suppliers de todo el arco Mediterráneo. \nEn esta edición\, los Buyers navegan por el Mediterráneo Occidental\, visitando diferentes ciudades para conocer en cada escala a los Suppliers locales. \nLos Suppliers eligen el puerto de escala en el que participar y embarcan para tener sus reuniones preseleccionadas a bordo por la mañana con Buyers\, siendo Mallorca uno de los puertos elegidos.
URL:https://mallorcaconventionbureau.com/event/gmf-mediterranean-onboard-edition
END:VEVENT
END:VCALENDAR