BEGIN:VCALENDAR
VERSION:2.0
PRODID:-//Mallorca Convention Bureau - ECPv6.14.1//NONSGML v1.0//EN
CALSCALE:GREGORIAN
METHOD:PUBLISH
X-ORIGINAL-URL:https://mallorcaconventionbureau.com
X-WR-CALDESC:Eventos para Mallorca Convention Bureau
REFRESH-INTERVAL;VALUE=DURATION:PT1H
X-Robots-Tag:noindex
X-PUBLISHED-TTL:PT1H
BEGIN:VTIMEZONE
TZID:Europe/Helsinki
BEGIN:DAYLIGHT
TZOFFSETFROM:+0200
TZOFFSETTO:+0300
TZNAME:EEST
DTSTART:20250330T010000
END:DAYLIGHT
BEGIN:STANDARD
TZOFFSETFROM:+0300
TZOFFSETTO:+0200
TZNAME:EET
DTSTART:20251026T010000
END:STANDARD
END:VTIMEZONE
BEGIN:VEVENT
DTSTART;TZID=Europe/Helsinki:20251114T000000
DTEND;TZID=Europe/Helsinki:20251117T000000
DTSTAMP:20260421T113754
CREATED:20250522T093511Z
LAST-MODIFIED:20251015T080516Z
UID:3911-1763078400-1763337600@mallorcaconventionbureau.com
SUMMARY:Fam Trip Pre-IBTM
DESCRIPTION:Con motivo de la celebración de IBTM World\, Mallorca tendrá el placer de acoger a un grupo de agencias MICE internacionales en un viaje de familiarización exclusivo.El programa permitirá a los participantes descubrir de primera mano la oferta del destino y conectar directamente con los principales proveedores locales antes de su participación en la feria.Una oportunidad única para conocer hoteles\, venues y experiencias que posicionan a Mallorca como un destino estratégico para la organización de eventos\, reuniones e incentivos.
URL:https://mallorcaconventionbureau.com/event/fam-trip-ibtm
END:VEVENT
END:VCALENDAR